BEGIN:VCALENDAR
VERSION:2.0
PRODID:https://www.gfl-juniors.de
BEGIN:VTIMEZONE
TZID:CET
BEGIN:DAYLIGHT
TZOFFSETFROM:+0100
TZOFFSETTO:+0200
TZNAME:Central European Summer Time
DTSTART:20160327T020000
RRULE:FREQ=YEARLY;BYDAY=-1SU;BYMONTH=3
END:DAYLIGHT
BEGIN:STANDARD
TZOFFSETFROM:+0200
TZOFFSETTO:+0100
TZNAME:Central European Time
END:STANDARD
END:VTIMEZONE
CALSCALE:GREGORIAN
BEGIN:VEVENT
DTSTART:20260501T160000
DTEND:20260501T190000
LOCATION:VFL Benrath\, DÃ¼sseldorf
DTSTAMP:20260417T202024
SUMMARY:DÃ¼sseldorf Panther vs Dresden Monarchs GFLJ Nord
URL;VALUE=URI:https://www.gfl-juniors.de/service/afvd-plugin/spiel/?spiel=31031
DESCRIPTION:American Football Spiel
UID:20260417T202024-20260501T160000-20260501T190000
END:VEVENT
END:VCALENDAR