BEGIN:VCALENDAR
VERSION:2.0
PRODID:https://www.afvh.de
BEGIN:VTIMEZONE
TZID:CET
BEGIN:DAYLIGHT
TZOFFSETFROM:+0100
TZOFFSETTO:+0200
TZNAME:Central European Summer Time
DTSTART:20160327T020000
RRULE:FREQ=YEARLY;BYDAY=-1SU;BYMONTH=3
END:DAYLIGHT
BEGIN:STANDARD
TZOFFSETFROM:+0200
TZOFFSETTO:+0100
TZNAME:Central European Time
END:STANDARD
END:VTIMEZONE
CALSCALE:GREGORIAN
BEGIN:VEVENT
DTSTART:20260530T100000
DTEND:20260530T130000
LOCATION:FrankenstraÃe 18\, Offenbach
DTSTAMP:20260415T212811
SUMMARY:Offenbach Rhein-Main Rockets vs Frankfurt Pirates MU13FL C
URL;VALUE=URI:https://www.afvh.de/service/afvd-plugin/spiel/?spiel=31469
DESCRIPTION:American Football Spiel
UID:20260415T212811-20260530T100000-20260530T130000
END:VEVENT
END:VCALENDAR