BEGIN:VCALENDAR
VERSION:2.0
PRODID:https://www.afvh.de
BEGIN:VTIMEZONE
TZID:CET
BEGIN:DAYLIGHT
TZOFFSETFROM:+0100
TZOFFSETTO:+0200
TZNAME:Central European Summer Time
DTSTART:20160327T020000
RRULE:FREQ=YEARLY;BYDAY=-1SU;BYMONTH=3
END:DAYLIGHT
BEGIN:STANDARD
TZOFFSETFROM:+0200
TZOFFSETTO:+0100
TZNAME:Central European Time
END:STANDARD
END:VTIMEZONE
CALSCALE:GREGORIAN
BEGIN:VEVENT
DTSTART:20260531T153000
DTEND:20260531T183000
LOCATION:TGS Walldorf Okrifteler StraÃe 6
DTSTAMP:20260416T224843
SUMMARY:Kelkheim Lizzards II vs BÃ¼rstadt Redskins MU16FL B
URL;VALUE=URI:https://www.afvh.de/service/afvd-plugin/spiel/?spiel=31518
DESCRIPTION:American Football Spiel
UID:20260416T224843-20260531T153000-20260531T183000
END:VEVENT
END:VCALENDAR