BEGIN:VCALENDAR
VERSION:2.0
PRODID:https://www.afvh.de
BEGIN:VTIMEZONE
TZID:CET
BEGIN:DAYLIGHT
TZOFFSETFROM:+0100
TZOFFSETTO:+0200
TZNAME:Central European Summer Time
DTSTART:20160327T020000
RRULE:FREQ=YEARLY;BYDAY=-1SU;BYMONTH=3
END:DAYLIGHT
BEGIN:STANDARD
TZOFFSETFROM:+0200
TZOFFSETTO:+0100
TZNAME:Central European Time
END:STANDARD
END:VTIMEZONE
CALSCALE:GREGORIAN
BEGIN:VEVENT
DTSTART:20260606T110000
DTEND:20260606T140000
LOCATION:Niederzeuzheim
DTSTAMP:20260415T221124
SUMMARY:GieÃen Golden Dragons vs Rodgau Pioneers MU13FL E
URL;VALUE=URI:https://www.afvh.de/service/afvd-plugin/spiel/?spiel=31494
DESCRIPTION:American Football Spiel
UID:20260415T221124-20260606T110000-20260606T140000
END:VEVENT
END:VCALENDAR