BEGIN:VCALENDAR
VERSION:2.0
PRODID:https://www.afvh.de
BEGIN:VTIMEZONE
TZID:CET
BEGIN:DAYLIGHT
TZOFFSETFROM:+0100
TZOFFSETTO:+0200
TZNAME:Central European Summer Time
DTSTART:20160327T020000
RRULE:FREQ=YEARLY;BYDAY=-1SU;BYMONTH=3
END:DAYLIGHT
BEGIN:STANDARD
TZOFFSETFROM:+0200
TZOFFSETTO:+0100
TZNAME:Central European Time
END:STANDARD
END:VTIMEZONE
CALSCALE:GREGORIAN
BEGIN:VEVENT
DTSTART:20260621T124500
DTEND:20260621T154500
LOCATION:Im StÃ¼ckes\, Kelkheim
DTSTAMP:20260415T220648
SUMMARY:MÃ¼nster Fireflags/Sparks vs Hanau Ravens MU13FL D
URL;VALUE=URI:https://www.afvh.de/service/afvd-plugin/spiel/?spiel=31488
DESCRIPTION:American Football Spiel
UID:20260415T220648-20260621T124500-20260621T154500
END:VEVENT
END:VCALENDAR