BEGIN:VCALENDAR
VERSION:2.0
PRODID:https://www.afvh.de
BEGIN:VTIMEZONE
TZID:CET
BEGIN:DAYLIGHT
TZOFFSETFROM:+0100
TZOFFSETTO:+0200
TZNAME:Central European Summer Time
DTSTART:20160327T020000
RRULE:FREQ=YEARLY;BYDAY=-1SU;BYMONTH=3
END:DAYLIGHT
BEGIN:STANDARD
TZOFFSETFROM:+0200
TZOFFSETTO:+0100
TZNAME:Central European Time
END:STANDARD
END:VTIMEZONE
CALSCALE:GREGORIAN
BEGIN:VEVENT
DTSTART:20260705T150000
DTEND:20260705T190000
LOCATION:BSA Heiligkreuz
DTSTAMP:20260325T161529
SUMMARY:Trier Stampers vs SG Kaiserslautern/Alzey RPFLL 
URL;VALUE=URI:https://www.afvh.de/service/afvd-plugin/spiel/?spiel=31237
DESCRIPTION:American Football Spiel
UID:20260325T161529-20260705T150000-20260705T190000
END:VEVENT
END:VCALENDAR